BEGIN:VCALENDAR
VERSION:2.0
PRODID:-//eventon.com NONSGML v1.0//EN
CALSCALE:GREGORIAN
METHOD:PUBLISH
BEGIN:VEVENT
UID:69e775b66f4b6
DTSTAMP:20260421T130350Z
DTSTART:20231209
DTEND:20231210
LOCATION:Segovia Segovia
SUMMARY:Belén de San Andrés 2023/2024
DESCRIPTION:Belén de San Andrés 2023/2024\,  desde el 9 de Diciembre hast
 a el 7 de de Enero de 2024 se podrá visitar el Nacimiento. Los horarios en
  días especiales como 24\,  25 y 31 de diciembre y 1\,  5 y 6 de enero se 
 actualizarán en el perfil de la Iglesia[..]\nhttps://www.eventosdesegovia.
 com/events/belen-de-san-andres-2023-2024/
URL:https://www.eventosdesegovia.com/events/belen-de-san-andres-2023-2024/
END:VEVENT
END:VCALENDAR