BEGIN:VCALENDAR
VERSION:2.0
PRODID:-//eventon.com NONSGML v1.0//EN
CALSCALE:GREGORIAN
METHOD:PUBLISH
BEGIN:VEVENT
UID:69eb2a780326d
DTSTAMP:20260424T083152Z
DTSTART:20231221
DTEND:20231222
LOCATION:Segovia Segovia
SUMMARY:Ruta de los Belenes de Segovia 2023
DESCRIPTION:Ruta de los Belenes de Segovia 2023\,  ya puedes visitar los be
 lenes de Segovia Capital\,  la mayoría de ellos están hasta el 6 de Enero
  abiertos\,  consulta los horarios.. Síguenos en nuestro canal de Whatsapp
 :\nhttps://www.eventosdesegovia.com/events/ruta-de-los-belenes-de-segovia-2
 023/
URL:https://www.eventosdesegovia.com/events/ruta-de-los-belenes-de-segovia-2023/
END:VEVENT
END:VCALENDAR