BEGIN:VCALENDAR
VERSION:2.0
PRODID:-//eventon.com NONSGML v1.0//EN
CALSCALE:GREGORIAN
METHOD:PUBLISH
BEGIN:VEVENT
UID:69e76fc23847d
DTSTAMP:20260421T123826Z
DTSTART:20231229
DTEND:20231230
LOCATION:
SUMMARY:33 Concurso de Belenes de Segovia
DESCRIPTION:33 Concurso de Belenes de Segovia\,  los belenes se pueden visi
 tar hasta el 6 de Enero de 2024\,  los belenes son Escolares\,  Populares y
  de Exhibición\,  se pueden visitar a lo largo de la provincia de Segovia.
  Síguenos en nuestro canal de Whatsapp: Consultar los horarios de apertura
  de cada[..]\nhttps://www.eventosdesegovia.com/events/33-concurso-de-belene
 s-de-segovia/
URL:https://www.eventosdesegovia.com/events/33-concurso-de-belenes-de-segovia/
END:VEVENT
END:VCALENDAR