BEGIN:VCALENDAR
VERSION:2.0
PRODID:-//eventon.com NONSGML v1.0//EN
CALSCALE:GREGORIAN
METHOD:PUBLISH
BEGIN:VEVENT
UID:69eb2b123bf31
DTSTAMP:20260424T083426Z
DTSTART:20240202
DTEND:20240203
LOCATION:Segovia Segovia
SUMMARY:Festividad de Santa Águeda 2024 San Lorenzo
DESCRIPTION:Festividad de Santa Águeda 2024\,  del 2 al 5 de febrero\,  en
  San Lorenzo. Festividad de Santa Águeda 2024 San Lorenzo Festividad de Sa
 nta Águeda 2024 San Lorenzo Síguenos en nuestro canal de Whatsapp:\nhttps
 ://www.eventosdesegovia.com/events/festividad-de-santa-agueda-2024-san-lore
 nzo/
URL:https://www.eventosdesegovia.com/events/festividad-de-santa-agueda-2024-san-lorenzo/
END:VEVENT
END:VCALENDAR