BEGIN:VCALENDAR
VERSION:2.0
PRODID:-//eventon.com NONSGML v1.0//EN
CALSCALE:GREGORIAN
METHOD:PUBLISH
BEGIN:VEVENT
UID:69e77873d3d62
DTSTAMP:20260421T131531Z
DTSTART:20240210T133000Z
DTEND:20240210T170000Z
LOCATION:Espirdo Espirdo
SUMMARY:Cocido Popular 2024 en Espirdo
DESCRIPTION:Cocido Popular 2024 en Espirdo\,  el 10 de Febrero de 2024 en e
 l Centro Cultural de Espirdo a las 14:30 Síguenos en nuestro canal de What
 sapp:\nhttps://www.eventosdesegovia.com/events/cocido-popular-2024-en-espir
 do/
URL:https://www.eventosdesegovia.com/events/cocido-popular-2024-en-espirdo/
END:VEVENT
END:VCALENDAR