BEGIN:VCALENDAR
VERSION:2.0
PRODID:-//eventon.com NONSGML v1.0//EN
CALSCALE:GREGORIAN
METHOD:PUBLISH
BEGIN:VEVENT
UID:69e4d280eadc1
DTSTAMP:20260419T130256Z
DTSTART:20240330
DTEND:20240331
LOCATION:Segovia Segovia
SUMMARY:Presentación de 'Jóvenes antifranquistas (1965-1975)' en Intempestivos
DESCRIPTION:Presentación de &#8216;Jóvenes antifranquistas (1965-1975)&#8
 217;\,  30 de marzo a las 12:00 horas\,  en Librería Intempestivos. Interv
 endrá Eugenio del Río\,  autor del libro. Presentación de &#8216;Jóvene
 s antifranquistas (1965-1975)&#8217; en Intempestivos\nhttps://www.eventosd
 esegovia.com/events/presentacion-de-jovenes-antifranquistas-1965-1975-en-in
 tempestivos/
URL:https://www.eventosdesegovia.com/events/presentacion-de-jovenes-antifranquistas-1965-1975-en-intempestivos/
END:VEVENT
END:VCALENDAR