BEGIN:VCALENDAR
VERSION:2.0
PRODID:-//eventon.com NONSGML v1.0//EN
CALSCALE:GREGORIAN
METHOD:PUBLISH
BEGIN:VEVENT
UID:69e89c10a804d
DTSTAMP:20260422T095944Z
DTSTART:20240415
DTEND:20240416
LOCATION:
SUMMARY:Iñaki Anasagasti en Emperador Teodosio
DESCRIPTION:Iñaki Anasagasti\,  15 de abril a las 20:00 horas\,  en Empera
 dor Teodosio\nhttps://www.eventosdesegovia.com/events/inaki-anasagasti-en-e
 mperador-teodosio/
URL:https://www.eventosdesegovia.com/events/inaki-anasagasti-en-emperador-teodosio/
END:VEVENT
END:VCALENDAR