BEGIN:VCALENDAR
VERSION:2.0
PRODID:-//eventon.com NONSGML v1.0//EN
CALSCALE:GREGORIAN
METHOD:PUBLISH
BEGIN:VEVENT
UID:69e89c118ce6f
DTSTAMP:20260422T095945Z
DTSTART:20240518
DTEND:20240519
LOCATION:Espirdo Espirdo
SUMMARY:Feria de Abril 2024 en Espirdo
DESCRIPTION:Feria de Abril 2024 en Espirdo\,  el 18 de Mayo de 2024\,  con 
 Danza y Flamenco\,  Comida&#8230; Síguenos en nuestro canal de Whatsapp:\n
 https://www.eventosdesegovia.com/events/feria-de-abril-2024-en-espirdo/
URL:https://www.eventosdesegovia.com/events/feria-de-abril-2024-en-espirdo/
END:VEVENT
END:VCALENDAR