BEGIN:VCALENDAR
VERSION:2.0
PRODID:-//eventon.com NONSGML v1.0//EN
CALSCALE:GREGORIAN
METHOD:PUBLISH
BEGIN:VEVENT
UID:69e89ceb2f168
DTSTAMP:20260422T100323Z
DTSTART:20200810
DTEND:20200811
LOCATION:
SUMMARY:Segovia Joven y la Senda de Los Suspiros
DESCRIPTION:Segovia Joven y la Senda de Los Suspiros\,  del 10 al 14 de Ago
 sto\,  si tienes curiosidad por conocer más sobre la historia de Segovia y
  participar de forma activa en la recuperación y conservación de su patri
 monio cultural\,  esta semana arqueológica te va a encantar. Con el objeti
 vo de[..]\nhttps://www.eventosdesegovia.com/events/segovia-joven-y-la-senda
 -de-los-suspiros/
URL:https://www.eventosdesegovia.com/events/segovia-joven-y-la-senda-de-los-suspiros/
END:VEVENT
END:VCALENDAR