BEGIN:VCALENDAR
VERSION:2.0
PRODID:-//eventon.com NONSGML v1.0//EN
CALSCALE:GREGORIAN
METHOD:PUBLISH
BEGIN:VEVENT
UID:69e4eac38df01
DTSTAMP:20260419T144627Z
DTSTART:20200818T200000Z
DTEND:20200818T100000Z
LOCATION:Real Casa de la Moneda Calle de la Moneda
SUMMARY:32-20 BLUES DÚO\,  en los conciertos de Verano de la Casa de la Moneda
DESCRIPTION:32-20 BLUES DÚO\,  en los conciertos de Verano de la Casa de l
 a Moneda\,  el martes\,  18 de agosto de 2020 a las 22:00. Compra tu entrad
 a en: http://www.turismodesegovia.com/ Duración: 60 minutosTARIFAS:Genera
 l10 € Entradas Sin numerar Jesús Parra y Gonzalo Peñalosa. Proyecto mus
 ical liderado por el músico Jesús Parra\,  con él[..]\nhttps://www.event
 osdesegovia.com/events/32-20-blues-duo-en-los-conciertos-de-verano-de-la-ca
 sa-de-la-moneda/
URL:https://www.eventosdesegovia.com/events/32-20-blues-duo-en-los-conciertos-de-verano-de-la-casa-de-la-moneda/
END:VEVENT
END:VCALENDAR