BEGIN:VCALENDAR
VERSION:2.0
PRODID:-//eventon.com NONSGML v1.0//EN
CALSCALE:GREGORIAN
METHOD:PUBLISH
BEGIN:VEVENT
UID:69e7789899e26
DTSTAMP:20260421T131608Z
DTSTART:20240531
DTEND:20240601
LOCATION:
SUMMARY:Psiquiatría y Espiritualidad: el enigma de San Juan de la Cruz
DESCRIPTION:Psiquiatría y Espiritualidad: el enigma de San Juan de la Cruz
 \,  de Javier Álvarez\,  31 de mayo a las 19 horas en Centro San Juan de l
 a Cruz. Carmelitas Descalzos Quieres más eventos como este en tu WhatsApp\
 ,  únete a nuestro grupo\nhttps://www.eventosdesegovia.com/events/psiquiat
 ria-y-espiritualidad-el-enigma-de-san-juan-de-la-cruz/
URL:https://www.eventosdesegovia.com/events/psiquiatria-y-espiritualidad-el-enigma-de-san-juan-de-la-cruz/
END:VEVENT
END:VCALENDAR