BEGIN:VCALENDAR
VERSION:2.0
PRODID:-//eventon.com NONSGML v1.0//EN
CALSCALE:GREGORIAN
METHOD:PUBLISH
BEGIN:VEVENT
UID:69e4d313e3b97
DTSTAMP:20260419T130523Z
DTSTART:20240601
DTEND:20240602
LOCATION:Fuenterrebollo Fuenterrebollo
SUMMARY:Hacendera en Fuenterrebollo
DESCRIPTION:Hacendera en Fuenterrebollo\,  en Conmemoración del día mundi
 al del Medioambiente\,  el 1 de Junio de 2024 desde las 10:00.\nhttps://www
 .eventosdesegovia.com/events/hacendera-en-fuenterrebollo/
URL:https://www.eventosdesegovia.com/events/hacendera-en-fuenterrebollo/
END:VEVENT
END:VCALENDAR