BEGIN:VCALENDAR
VERSION:2.0
PRODID:-//eventon.com NONSGML v1.0//EN
CALSCALE:GREGORIAN
METHOD:PUBLISH
BEGIN:VEVENT
UID:69e777d94756e
DTSTAMP:20260421T131257Z
DTSTART:20240608
DTEND:20240609
LOCATION:Cantalejo Cantalejo
SUMMARY:Romería del Caballo 2024 en Cantalejo
DESCRIPTION:Romería del Caballo 2024 en Cantalejo\,  el 8 de Junio de 2024
  desde las 10:30 con quedada\,  pincho\,  Vermu\,  Paella\,  Actuaciones\, 
  Dj&#8230;.\nhttps://www.eventosdesegovia.com/events/romeria-del-caballo-20
 24-en-cantalejo/
URL:https://www.eventosdesegovia.com/events/romeria-del-caballo-2024-en-cantalejo/
END:VEVENT
END:VCALENDAR