BEGIN:VCALENDAR
VERSION:2.0
PRODID:-//eventon.com NONSGML v1.0//EN
CALSCALE:GREGORIAN
METHOD:PUBLISH
BEGIN:VEVENT
UID:69e764573374d
DTSTAMP:20260421T114943Z
DTSTART:20240615
DTEND:20240616
LOCATION:La Cárcel_Centro de Creación Av. Juan Carlos I
SUMMARY:III Feria FECOSE 2024 en La Cárcel
DESCRIPTION:III Feria FECOSE\,  15 y 16 de junio\,  en el La Cárcel de Seg
 ovia. Síguenos en nuestro canal de Whatsapp:\nhttps://www.eventosdesegovia
 .com/events/iii-feria-fecose-2024-en-la-carcel/
URL:https://www.eventosdesegovia.com/events/iii-feria-fecose-2024-en-la-carcel/
END:VEVENT
END:VCALENDAR