BEGIN:VCALENDAR
VERSION:2.0
PRODID:-//eventon.com NONSGML v1.0//EN
CALSCALE:GREGORIAN
METHOD:PUBLISH
BEGIN:VEVENT
UID:69e8938871cad
DTSTAMP:20260422T092320Z
DTSTART:20240615T170000Z
DTEND:20240615T183000Z
LOCATION:Encinillas Encinillas
SUMMARY:Teatro - Calladita estás más Guapa en Encinillas
DESCRIPTION:Teatro &#8211; Calladita estás más Guapa en Encinillas\,  tea
 tro foro sobre igualdad de Género\,  el 15 de Junio a las 19:00 en el Conc
 ejo. Calle Real Numero 1 de Encinillas.\nhttps://www.eventosdesegovia.com/e
 vents/teatro-calladita-estas-mas-guapa-en-encinillas/
URL:https://www.eventosdesegovia.com/events/teatro-calladita-estas-mas-guapa-en-encinillas/
END:VEVENT
END:VCALENDAR