BEGIN:VCALENDAR
VERSION:2.0
PRODID:-//eventon.com NONSGML v1.0//EN
CALSCALE:GREGORIAN
METHOD:PUBLISH
BEGIN:VEVENT
UID:69e88aa9aa2ab
DTSTAMP:20260422T084529Z
DTSTART:20240629
DTEND:20240630
LOCATION:
SUMMARY:Fiesta en Honor al Sagrado Corazón de Jesús 2024 en ALDEALENGUA DE SANTA MARIA
DESCRIPTION:Fiesta en Honor al Sagrado Corazón de Jesús 2024 en ALDEALENG
 UA DE SANTA MARIA\,  e 29 de Junio de 2024. Sábado 29 de Junio 2024 12:00h
 . PASACALLES. Grupo de Dulzaineros «HERMANOS RAMOS» 12:30h. MISA y PROCES
 IÓN en honor al «SAGRADO CORAZÓN DE JESÚS» 13:45h. BAILE-VERMOUTH con 
 los Dulzaineros «HERMANOS RAMOS»[..]\nhttps://www.eventosdesegovia.com/ev
 ents/fiesta-en-honor-al-sagrado-corazon-de-jesus-2024-en-aldealengua-de-san
 ta-maria/
URL:https://www.eventosdesegovia.com/events/fiesta-en-honor-al-sagrado-corazon-de-jesus-2024-en-aldealengua-de-santa-maria/
END:VEVENT
END:VCALENDAR