BEGIN:VCALENDAR
VERSION:2.0
PRODID:-//eventon.com NONSGML v1.0//EN
CALSCALE:GREGORIAN
METHOD:PUBLISH
BEGIN:VEVENT
UID:69e8a0ff42d08
DTSTAMP:20260422T102047Z
DTSTART:20240801T183000Z
DTEND:20240915T203000Z
LOCATION:Segovia Segovia
SUMMARY:Talleres y Actividades en Centro Corpus 2024 Agosto
DESCRIPTION:Síguenos en nuestro canal de Whatsapp: Talleres y Actividades\
 ,  en Centro Corpus de Fundación Caja Segovia (C/Juan Bravo 2). Mantente A
 ctiv@: GAP\,  Gimnasia\,  Pilates Martes y jueves 10h &#8211; Gimnasia y P
 ilates Martes y jueves 20h &#8211; GAP y Pilates Grupo mínimo: 10 personas
  por grupo/horario Cuota mensual: 20€ (1 h/semana) /[..]\nhttps://www.ev
 entosdesegovia.com/events/talleres-y-actividades-en-centro-corpus-2024-agos
 to/
URL:https://www.eventosdesegovia.com/events/talleres-y-actividades-en-centro-corpus-2024-agosto/
END:VEVENT
END:VCALENDAR