BEGIN:VCALENDAR
VERSION:2.0
PRODID:-//eventon.com NONSGML v1.0//EN
CALSCALE:GREGORIAN
METHOD:PUBLISH
BEGIN:VEVENT
UID:69eb2bb22eac0
DTSTAMP:20260424T083706Z
DTSTART:20240803
DTEND:20240804
LOCATION:Casla Casla
SUMMARY:Torneo Fútbol Sala 2024 en Casla
DESCRIPTION:Torneo Fútbol Sala 2024 en Casla\,  el 3 de Agosto de 2024 des
 de las 10:30 en las Pistas Multiusos Chano. Precio por equipo 35 euros.\nht
 tps://www.eventosdesegovia.com/events/torneo-futbol-sala-2024-en-casla/
URL:https://www.eventosdesegovia.com/events/torneo-futbol-sala-2024-en-casla/
END:VEVENT
END:VCALENDAR