BEGIN:VCALENDAR
VERSION:2.0
PRODID:-//eventon.com NONSGML v1.0//EN
CALSCALE:GREGORIAN
METHOD:PUBLISH
BEGIN:VEVENT
UID:69e7a60910269
DTSTAMP:20260421T163001Z
DTSTART:20240814
DTEND:20240815
LOCATION:Dehesa Mayor Dehesa Mayor
SUMMARY:XI Fiestas Populares en Dehesa Mayor 2024
DESCRIPTION:XI Fiestas Populares en Dehesa Mayor 2024\,  del 14 al 20 de Ag
 osto de 2024\,  con Torneos\,  Ruta\,  Petanca\,  Rana\,  Hinchables\,  Pan
 cetada\,  Campeonatos\,  Concierto Folk..\nhttps://www.eventosdesegovia.com
 /events/xi-fiestas-populares-en-dehesa-mayor-2024/
URL:https://www.eventosdesegovia.com/events/xi-fiestas-populares-en-dehesa-mayor-2024/
END:VEVENT
END:VCALENDAR