BEGIN:VCALENDAR
VERSION:2.0
PRODID:-//eventon.com NONSGML v1.0//EN
CALSCALE:GREGORIAN
METHOD:PUBLISH
BEGIN:VEVENT
UID:69e73dc39d895
DTSTAMP:20260421T090507Z
DTSTART:20240816
DTEND:20240817
LOCATION:Fuentes de Cuéllar Fuentes de Cuéllar
SUMMARY:Fiestas en Fuentes de Cuéllar 2024
DESCRIPTION:Fiestas en Fuentes de Cuéllar 2024\,  del 16 al 19 de Agosto d
 e 2024\,  con Campeonatos\,  Hinchables\,  Misa\,  Juegos Tradicionales\,  
 Paella\,  Espectaculo\,  Dj&#8230;\nhttps://www.eventosdesegovia.com/events
 /fiestas-en-fuentes-de-cuellar-2024/
URL:https://www.eventosdesegovia.com/events/fiestas-en-fuentes-de-cuellar-2024/
END:VEVENT
END:VCALENDAR