BEGIN:VCALENDAR
VERSION:2.0
PRODID:-//eventon.com NONSGML v1.0//EN
CALSCALE:GREGORIAN
METHOD:PUBLISH
BEGIN:VEVENT
UID:69e4d2bb449ed
DTSTAMP:20260419T130355Z
DTSTART:20240819
DTEND:20240820
LOCATION:La Cárcel_Centro de Creación Av. Juan Carlos I
SUMMARY:Presentación mural colectivo en La Cárcel
DESCRIPTION:Presentación del mural colectivo del Curso de Pintores\,  19 d
 e agosto a las 21:00 horas\,  en La Cárcel de Segovia. El  19 de agosto\,
   desde las 21:00 horas\,  La Cárcel. Segovia Centro de Creación acoge la
  presentación del Mural Colectivo realizado en el marco del Curso de Pinto
 res de Segovia\, [..]\nhttps://www.eventosdesegovia.com/events/presentacion
 -mural-colectivo-en-la-carcel/
URL:https://www.eventosdesegovia.com/events/presentacion-mural-colectivo-en-la-carcel/
END:VEVENT
END:VCALENDAR