BEGIN:VCALENDAR
VERSION:2.0
PRODID:-//eventon.com NONSGML v1.0//EN
CALSCALE:GREGORIAN
METHOD:PUBLISH
BEGIN:VEVENT
UID:69e509af904d1
DTSTAMP:20260419T165823Z
DTSTART:20240914
DTEND:20240915
LOCATION:Segovia Segovia
SUMMARY:La noche del Patrimonio - Segovia 2024
DESCRIPTION:La noche del Patrimonio &#8211; Segovia 2024\,  el 14 de Septie
 mbre de 2024. Síguenos en nuestro canal de Whatsapp: ESCENA PATRIMONIO ADR
 IÁN VEGA &amp; ADRIANO GALANTE PRESENTAN «INAUDIT» Lugar:&nbsp;La Cárce
 l_Segovia Centro de CreaciónHora:&nbsp;18.30hDuración:&nbsp;35/40 minutos
  «Inaudit» es un estreno absoluto para Escena Patrimonio Entrada libre ha
 sta completar el aforo VIVE PATRIMONIO[..]\nhttps://www.eventosdesegovia.co
 m/events/la-noche-del-patrimonio-segovia-2024/
URL:https://www.eventosdesegovia.com/events/la-noche-del-patrimonio-segovia-2024/
END:VEVENT
END:VCALENDAR