BEGIN:VCALENDAR
VERSION:2.0
PRODID:-//eventon.com NONSGML v1.0//EN
CALSCALE:GREGORIAN
METHOD:PUBLISH
BEGIN:VEVENT
UID:69e7a5f4cb90c
DTSTAMP:20260421T162940Z
DTSTART:20240911T050600Z
DTEND:20240911T050600Z
LOCATION:Teleclub de El Olmillo El Olmillo
SUMMARY:Fiestas 2024 en El Olmillo
DESCRIPTION:Fiestas 2024 en El Olmillo\,  los días 13\,  14\,  15 y 16 de 
 Septiembre de 2024\,  con Fiesta de la Espuma\,  Parque Infantil\,  Charang
 a\,  Torneos\,  Bingo\,  Concursos de Disfraces\,  Conciertos\,  Juegos Tra
 dicionales&#8230;\nhttps://www.eventosdesegovia.com/events/fiestas-2024-en-
 el-olmillo/
URL:https://www.eventosdesegovia.com/events/fiestas-2024-en-el-olmillo/
END:VEVENT
END:VCALENDAR