BEGIN:VCALENDAR
VERSION:2.0
PRODID:-//eventon.com NONSGML v1.0//EN
CALSCALE:GREGORIAN
METHOD:PUBLISH
BEGIN:VEVENT
UID:69e778ad37092
DTSTAMP:20260421T131629Z
DTSTART:20241008
DTEND:20241009
LOCATION:
SUMMARY:Jornada Técnica Micológica
DESCRIPTION:Jornada Técnica Micológica\,  8 de octubre. Fecha límite de 
 inscripción: 30 de septiembre HOTUSE&nbsp;en colaboración con&nbsp;PROVAR
 MIS\, &nbsp;DIPUTACIÓN DE SEGOVIA&nbsp;y&nbsp;ALIMENTOS DESEGOVIA\, &nbsp;
 vamos a celebrar una&nbsp;Jornada Técnica Micológica. Consistirá en una&
 nbsp;jornada teórica&nbsp;que se celebrará el&nbsp;martes8 de octubre de 
 17:30 h. a 19:30 h. en la sede de HOTUSE (C/Curtidores\,  6 4002 de Segovia
 ). Las&nbsp;plazas&nbsp;para[..]\nhttps://www.eventosdesegovia.com/events/j
 ornada-tecnica-micologica/
URL:https://www.eventosdesegovia.com/events/jornada-tecnica-micologica/
END:VEVENT
END:VCALENDAR