BEGIN:VCALENDAR
VERSION:2.0
PRODID:-//eventon.com NONSGML v1.0//EN
CALSCALE:GREGORIAN
METHOD:PUBLISH
BEGIN:VEVENT
UID:69e77881d7616
DTSTAMP:20260421T131545Z
DTSTART:20241025
DTEND:20241026
LOCATION:
SUMMARY:Concurso de dibujo Segovia ciudad europea
DESCRIPTION:Concurso de dibujo Segovia ciudad europea\,  hasta el 25 de oct
 ubre en el Ayuntamiento de Segovia y se expondrán posteriormente en la web
  del Ayuntamiento de Segovia (www.segovia.es). El concurso está dirigido a
  niños y jóvenes de entre 3 y 17 años. Los dibujos ganadores ilustrarán
  el calendario “Segovia ciudad[..]\nhttps://www.eventosdesegovia.com/even
 ts/concurso-de-dibujo-segovia-ciudad-europea/
URL:https://www.eventosdesegovia.com/events/concurso-de-dibujo-segovia-ciudad-europea/
END:VEVENT
END:VCALENDAR