BEGIN:VCALENDAR
VERSION:2.0
PRODID:-//eventon.com NONSGML v1.0//EN
CALSCALE:GREGORIAN
METHOD:PUBLISH
BEGIN:VEVENT
UID:69e89d87e222b
DTSTAMP:20260422T100559Z
DTSTART:20241005
DTEND:20241006
LOCATION:Villar de Sobrepeña Villar de Sobrepeña
SUMMARY:Fiestas del Rosario 2024 en Villar de Sobrepeña
DESCRIPTION:Fiestas del Rosario 2024 en Villar de Sobrepeña\,  los días 5
 \,  6 y 7 de Octubre de 2024\,  con Aperitivo\,  Novena\,  Actuaciones\,  R
 evolada\,  Misa\,  Vermut\,  Baile\,  Comida..\nhttps://www.eventosdesegovi
 a.com/events/fiestas-del-rosario-2024-en-villar-de-sobrepena/
URL:https://www.eventosdesegovia.com/events/fiestas-del-rosario-2024-en-villar-de-sobrepena/
END:VEVENT
END:VCALENDAR