BEGIN:VCALENDAR
VERSION:2.0
PRODID:-//eventon.com NONSGML v1.0//EN
CALSCALE:GREGORIAN
METHOD:PUBLISH
BEGIN:VEVENT
UID:69e7780a8ab8e
DTSTAMP:20260421T131346Z
DTSTART:20241013T153000Z
DTEND:20241013T170000Z
LOCATION:Riaza Riaza
SUMMARY:Cine Comarcal - Noche en el Museo 3 en Riaza
DESCRIPTION:Cine Comarcal &#8211; Noche en el Museo 3 en Riaza\,  el 13 de 
 octubre de 2024 a las 17:30\,  para todos los públicos\,  en el centro Cul
 tural. Síguenos en nuestro canal de Whatsapp:\nhttps://www.eventosdesegovi
 a.com/events/cine-comarcal-noche-en-el-museo-3-en-riaza/
URL:https://www.eventosdesegovia.com/events/cine-comarcal-noche-en-el-museo-3-en-riaza/
END:VEVENT
END:VCALENDAR