BEGIN:VCALENDAR
VERSION:2.0
PRODID:-//eventon.com NONSGML v1.0//EN
CALSCALE:GREGORIAN
METHOD:PUBLISH
BEGIN:VEVENT
UID:69e8b10a1bb2e
DTSTAMP:20260422T112914Z
DTSTART:20241022
DTEND:20241023
LOCATION:
SUMMARY:Formación Enreda en Verde - Cultivo de setas en vivero en Vicam
DESCRIPTION:Formación Enreda en Verde &#8211; Cultivo de setas en vivero d
 urante los días 22\,  23 y 24 de octubre\,  en EDIFICIO VICAM (Parc. ET-8 
 Complejo Quitapesares\,  Ctr. CL-601 km\, 7\,  Palazuelos de Eresma\,  Sego
 via) 🍄 Aprenderemos desde cero las nociones básicas y los requisitos t
 cnicos para lograr el cultivo de hongos[..]\nhttps://www.eventosdesegovia.
 com/events/formacion-enreda-en-verde-cultivo-de-setas-en-vivero-en-vicam/
URL:https://www.eventosdesegovia.com/events/formacion-enreda-en-verde-cultivo-de-setas-en-vivero-en-vicam/
END:VEVENT
END:VCALENDAR