BEGIN:VCALENDAR
VERSION:2.0
PRODID:-//eventon.com NONSGML v1.0//EN
CALSCALE:GREGORIAN
METHOD:PUBLISH
BEGIN:VEVENT
UID:69e73daf45521
DTSTAMP:20260421T090447Z
DTSTART:20241019
DTEND:20241020
LOCATION:Moraleja de Coca Moraleja de Coca
SUMMARY:Fiesta fin de Vendimia 2024 en Moraleja de Coca
DESCRIPTION:Fiesta fin de Vendimia 2024 en Moraleja de Coca\,  el 19 de Oct
 ubre de 2024\,  con Vendimia\,  Pisada de Uva\,  Cata de Verdejo\,  Música
 \,  Comida\,  Conciertos&#8230;.\nhttps://www.eventosdesegovia.com/events/f
 iesta-fin-de-vendimia-2024-en-moraleja-de-coca/
URL:https://www.eventosdesegovia.com/events/fiesta-fin-de-vendimia-2024-en-moraleja-de-coca/
END:VEVENT
END:VCALENDAR