BEGIN:VCALENDAR
VERSION:2.0
PRODID:-//eventon.com NONSGML v1.0//EN
CALSCALE:GREGORIAN
METHOD:PUBLISH
BEGIN:VEVENT
UID:69e74f1b5fc73
DTSTAMP:20260421T101907Z
DTSTART:20241021
DTEND:20241022
LOCATION:Centro Social Corpus Calle Juan Bravo\,  2
SUMMARY:Exposición Jardines enmarcados en el Centro Social Corpus
DESCRIPTION:Exposición Jardines enmarcados en el Centro Social Corpus\,  L
 as Flores de Sandora y sus “Jardines enmarcados” en el espacio expositi
 vo del Centro Social Corpus hasta el 8 de noviembre. Las Flores de Sandora&
 nbsp;y sus&nbsp;“Jardines enmarcados”&nbsp;en el espacio expositivo del
  Centro Social Corpus hasta el 8 de noviembre Título: Jardines enmarcados[
 ..]\nhttps://www.eventosdesegovia.com/events/exposicion-jardines-enmarcados
 -en-el-centro-social-corpus/
URL:https://www.eventosdesegovia.com/events/exposicion-jardines-enmarcados-en-el-centro-social-corpus/
END:VEVENT
END:VCALENDAR