BEGIN:VCALENDAR
VERSION:2.0
PRODID:-//eventon.com NONSGML v1.0//EN
CALSCALE:GREGORIAN
METHOD:PUBLISH
BEGIN:VEVENT
UID:69eb2b21354fa
DTSTAMP:20260424T083441Z
DTSTART:20241023T160000Z
DTEND:20241023T180000Z
LOCATION:Segovia Segovia
SUMMARY:Taller - Prevención del Suicidio Perinatal
DESCRIPTION:Taller &#8211; Prevención del Suicidio Perinatal\,  el 23 de O
 ctubre de 2024 a las 18:00 en el CISS Jesús `de Mazariegos de Segovia.\nht
 tps://www.eventosdesegovia.com/events/taller-prevencion-del-suicidio-perina
 tal/
URL:https://www.eventosdesegovia.com/events/taller-prevencion-del-suicidio-perinatal/
END:VEVENT
END:VCALENDAR