BEGIN:VCALENDAR
VERSION:2.0
PRODID:-//eventon.com NONSGML v1.0//EN
CALSCALE:GREGORIAN
METHOD:PUBLISH
BEGIN:VEVENT
UID:69e4ceab16234
DTSTAMP:20260419T124635Z
DTSTART:20241025
DTEND:20241026
LOCATION:Segovia Segovia
SUMMARY:Fiestas de San Frutos 2024 - 25 de octubre
DESCRIPTION:Fiestas de San Frutos 2024\,  25 de octubre Síguenos en nuestr
 o canal de Whatsapp:\nhttps://www.eventosdesegovia.com/events/fiestas-de-sa
 n-frutos-2024-25-de-octubre/
URL:https://www.eventosdesegovia.com/events/fiestas-de-san-frutos-2024-25-de-octubre/
END:VEVENT
END:VCALENDAR