BEGIN:VCALENDAR
VERSION:2.0
PRODID:-//eventon.com NONSGML v1.0//EN
CALSCALE:GREGORIAN
METHOD:PUBLISH
BEGIN:VEVENT
UID:69e8b270f3437
DTSTAMP:20260422T113512Z
DTSTART:20241110T170000Z
DTEND:20241110T220000Z
LOCATION:
SUMMARY:Plantación popular El Bosque de Cajaviva en Navares de las Cuevas
DESCRIPTION:Plantación popular El Bosque de Cajaviva\,  10 de noviembre\, 
  en Navares de las Cuevas. Formulario de inscripción\nhttps://www.eventosd
 esegovia.com/events/plantacion-popular-el-bosque-de-cajaviva-en-navares-de-
 las-cuevas/
URL:https://www.eventosdesegovia.com/events/plantacion-popular-el-bosque-de-cajaviva-en-navares-de-las-cuevas/
END:VEVENT
END:VCALENDAR