BEGIN:VCALENDAR
VERSION:2.0
PRODID:-//eventon.com NONSGML v1.0//EN
CALSCALE:GREGORIAN
METHOD:PUBLISH
BEGIN:VEVENT
UID:69e4e23bbd15b
DTSTAMP:20260419T141003Z
DTSTART:20241108
DTEND:20241109
LOCATION:Casa de la Lectura – Biblioteca Municipal Calle Juan Bravo\,  11
SUMMARY:Homenaje Literario-Musical a José Antonio Abella en Casa de Lectura
DESCRIPTION:Homenaje Literario-Musical a José Antonio Abella\,  y presenta
 ción del libro «Hermanos en Benaiges»\,  8 de noviembre a las 18:00 h\, 
  en la Casa de Lectura de Segovia Guion y coordinación\,  Jesús Herranz C
 eballos Diecisiete textos de un puñado de amigos\,  que nos acercan\,  des
 de una perspectiva poliédrica\,  la figura de[..]\nhttps://www.eventosdese
 govia.com/events/homenaje-literario-musical-a-jose-antonio-abella-en-casa-d
 e-lectura/
URL:https://www.eventosdesegovia.com/events/homenaje-literario-musical-a-jose-antonio-abella-en-casa-de-lectura/
END:VEVENT
END:VCALENDAR