BEGIN:VCALENDAR
VERSION:2.0
PRODID:-//eventon.com NONSGML v1.0//EN
CALSCALE:GREGORIAN
METHOD:PUBLISH
BEGIN:VEVENT
UID:69e73a98239c4
DTSTAMP:20260421T085136Z
DTSTART:20241109
DTEND:20241110
LOCATION:Palazuelos de Eresma Palazuelos de Eresma
SUMMARY:Taller DJ en Palazuelos de Eresma
DESCRIPTION:Taller DJ en Palazuelos de Eresma\,  impartido por Moreno Dj&#8
 217;s\,  los días 9\,  16\,  23 y 30 de Noviembre de 2024\,  en el Espacio
  Joven\,  de 17:30 a 19:00. Edades entre 12 y 16 años.\nhttps://www.evento
 sdesegovia.com/events/taller-dj-en-palazuelos-de-eresma/
URL:https://www.eventosdesegovia.com/events/taller-dj-en-palazuelos-de-eresma/
END:VEVENT
END:VCALENDAR