BEGIN:VCALENDAR
VERSION:2.0
PRODID:-//eventon.com NONSGML v1.0//EN
CALSCALE:GREGORIAN
METHOD:PUBLISH
BEGIN:VEVENT
UID:69e74f1f5e982
DTSTAMP:20260421T101911Z
DTSTART:20241117
DTEND:20241118
LOCATION:
SUMMARY:Concierto de Banda Sinfónica Tierra de Segovia en Conservatorio
DESCRIPTION:Concierto de Banda Sinfónica Tierra de Segovia\,  17 de noviem
 bre a las 12:00 horas\,  en Auditorio del Conservatorio Profesional de Mús
 ica de Segovia. Síguenos en nuestro canal de Whatsapp:\nhttps://www.evento
 sdesegovia.com/events/concierto-de-banda-sinfonica-tierra-de-segovia-en-con
 servatorio/
URL:https://www.eventosdesegovia.com/events/concierto-de-banda-sinfonica-tierra-de-segovia-en-conservatorio/
END:VEVENT
END:VCALENDAR