BEGIN:VCALENDAR
VERSION:2.0
PRODID:-//eventon.com NONSGML v1.0//EN
CALSCALE:GREGORIAN
METHOD:PUBLISH
BEGIN:VEVENT
UID:69e88a023fa91
DTSTAMP:20260422T084242Z
DTSTART:20241116T213000Z
DTEND:20241116T103000Z
LOCATION:Segovia Segovia
SUMMARY:Monologo Angelito El Largo en Excalibur
DESCRIPTION:Monologo Angelito El Largo en Excalibur\,  el 16 de Noviembre d
 e 2024 a las 22:30. Síguenos en nuestro canal de Whatsapp:\nhttps://www.ev
 entosdesegovia.com/events/monologo-angelito-el-largo-en-excalibur/
URL:https://www.eventosdesegovia.com/events/monologo-angelito-el-largo-en-excalibur/
END:VEVENT
END:VCALENDAR