BEGIN:VCALENDAR
VERSION:2.0
PRODID:-//eventon.com NONSGML v1.0//EN
CALSCALE:GREGORIAN
METHOD:PUBLISH
BEGIN:VEVENT
UID:69e7bc348b0bd
DTSTAMP:20260421T180436Z
DTSTART:20241214
DTEND:20241215
LOCATION:Casa de la Lectura – Biblioteca Municipal Calle Juan Bravo\,  11
SUMMARY:Exposición 'El cielo extranjero' en Casa Lectura
DESCRIPTION:Exposición &#8216;El cielo extranjero&#8217; de Iván Montero\
 ,  hasta el 14 de diciembre\,  en Casa de la Lectura La sala de exposicione
 s de la Casa de la Lectura acoge “El cielo extranjero”\,  el nuevo trab
 ajo de Iván Montero\,  un viaje visual hacia la esencia del expresionismo 
 abstracto\,  en el que este[..]\nhttps://www.eventosdesegovia.com/events/ex
 posicion-el-cielo-extranjero-en-casa-lectura/
URL:https://www.eventosdesegovia.com/events/exposicion-el-cielo-extranjero-en-casa-lectura/
END:VEVENT
END:VCALENDAR