BEGIN:VCALENDAR
VERSION:2.0
PRODID:-//eventon.com NONSGML v1.0//EN
CALSCALE:GREGORIAN
METHOD:PUBLISH
BEGIN:VEVENT
UID:69e8b19222298
DTSTAMP:20260422T113130Z
DTSTART:20241129
DTEND:20241130
LOCATION:Chatún Chatún
SUMMARY:Fiestas de San Andrés 2024 en Chatún
DESCRIPTION:Fiestas de San Andrés 2024 en Chatún\,  del 29 de Noviembre d
 e 2024 al 1 de Diciembre de 2024\,  con Karaoke\,  Discomovida\,  Misa\,  P
 arrillada\,  Batucada&#8230;\nhttps://www.eventosdesegovia.com/events/fiest
 as-de-san-andres-2024-en-chatun/
URL:https://www.eventosdesegovia.com/events/fiestas-de-san-andres-2024-en-chatun/
END:VEVENT
END:VCALENDAR