BEGIN:VCALENDAR
VERSION:2.0
PRODID:-//eventon.com NONSGML v1.0//EN
CALSCALE:GREGORIAN
METHOD:PUBLISH
BEGIN:VEVENT
UID:69e88781b6e10
DTSTAMP:20260422T083201Z
DTSTART:20241129
DTEND:20241130
LOCATION:Librería Entre Libros  C. de Jose Zorrilla\,  24\,  40002 Segovia
SUMMARY:Presentación de 'Entre el río y los cerros' en librería Entre Libros
DESCRIPTION:Presentación de &#8216;Entre el río y los cerros&#8217;\,  29
  de noviembre a las 20:00 horas\,  en la librería Entre Libros Segovia (Ca
 lle de José Zorrilla\,  26). Charlaremos sobre los relatos\,  hablaremos d
 e historias y\,  por supuesto\,  ¡podrás llevarte un ejemplar firmado! Pu
 edes conseguir el libro en línea en el link[..]\nhttps://www.eventosdesego
 via.com/events/presentacion-de-entre-el-rio-y-los-cerros-en-libreria-entre-
 libros/
URL:https://www.eventosdesegovia.com/events/presentacion-de-entre-el-rio-y-los-cerros-en-libreria-entre-libros/
END:VEVENT
END:VCALENDAR