BEGIN:VCALENDAR
VERSION:2.0
PRODID:-//eventon.com NONSGML v1.0//EN
CALSCALE:GREGORIAN
METHOD:PUBLISH
BEGIN:VEVENT
UID:69e74e1689c2c
DTSTAMP:20260421T101446Z
DTSTART:20241210
DTEND:20241211
LOCATION:Biblioteca Pública de Segovia Calle los Procuradores de la Tierra\,  6
SUMMARY:Ciclo de Cine Chino - El gran hipnotizador en Biblioteca Pública
DESCRIPTION:Ciclo de Cine Chino &#8211; El gran hipnotizador\,  10 de dicie
 mbre a las 18:00 horas\,  en Biblioteca Pública de Segovia.\nhttps://www.e
 ventosdesegovia.com/events/ciclo-de-cine-chino-el-gran-hipnotizador-en-bibl
 ioteca-publica/
URL:https://www.eventosdesegovia.com/events/ciclo-de-cine-chino-el-gran-hipnotizador-en-biblioteca-publica/
END:VEVENT
END:VCALENDAR