BEGIN:VCALENDAR
VERSION:2.0
PRODID:-//eventon.com NONSGML v1.0//EN
CALSCALE:GREGORIAN
METHOD:PUBLISH
BEGIN:VEVENT
UID:69e8b25ce7110
DTSTAMP:20260422T113452Z
DTSTART:20241213
DTEND:20241214
LOCATION:Teatro Juan Bravo Plaza Mayor\,  9
SUMMARY:Teatro Juan Bravo - 13\,  14 y 15 de diciembre
DESCRIPTION:Teatro Juan Bravo\,  durante los días 13\,  14 y 15 de diciemb
 re MACHO GRITA\,  el 13 diciembre a las 20:30. Compañía:&nbsp;Compañía 
 Nacional de Teatro Clásico y EQMDirección:&nbsp;Alberto San JuanDramaturg
 ia:&nbsp;Alberto San JuanIntérpretes:&nbsp;Alberto San Juan y Pablo Navarr
 o\,  Gabriel Marijuan\,  Miguel Malla y Claudio de Casas (músicos)Función
 :&nbsp;20:30 hDuración:&nbsp;1 h y 30 minPrecio:&nbsp;20[..]\nhttps://www.
 eventosdesegovia.com/events/teatro-juan-bravo-13-14-y-15-de-diciembre/
URL:https://www.eventosdesegovia.com/events/teatro-juan-bravo-13-14-y-15-de-diciembre/
END:VEVENT
END:VCALENDAR