BEGIN:VCALENDAR
VERSION:2.0
PRODID:-//eventon.com NONSGML v1.0//EN
CALSCALE:GREGORIAN
METHOD:PUBLISH
BEGIN:VEVENT
UID:69e75d3a9f8d6
DTSTAMP:20260421T111922Z
DTSTART:20241219
DTEND:20241220
LOCATION:
SUMMARY:Presentación El Crimen de Vejo en Casa de la Lectura
DESCRIPTION:Presentación «El Crimen de Vejo» de Enrique Zanella\,  19 de
  diciembre a las 18:30 horas\,  en Casa de la Lectura. El Crimen de Vejo es
  su primera novela\,  una mezcla de thriller y novela negra ambientada en u
 n pueblo ficticio del norte de España en 1196. El autor se inspira[..]\nht
 tps://www.eventosdesegovia.com/events/presentacion-el-crimen-de-vejo-en-cas
 a-de-la-lectura/
URL:https://www.eventosdesegovia.com/events/presentacion-el-crimen-de-vejo-en-casa-de-la-lectura/
END:VEVENT
END:VCALENDAR