BEGIN:VCALENDAR
VERSION:2.0
PRODID:-//eventon.com NONSGML v1.0//EN
CALSCALE:GREGORIAN
METHOD:PUBLISH
BEGIN:VEVENT
UID:69e78354c7265
DTSTAMP:20260421T140156Z
DTSTART:20241221
DTEND:20241222
LOCATION:Carbonero el Mayor Carbonero el Mayor
SUMMARY:Fiesta Solidaria en Carbonero el Mayor
DESCRIPTION:Fiesta Solidaria en Carbonero el Mayor\,  el 21 de Diciembre de
  2024 en el Colegio San Juan Bautista\,  con DJs\,  Prohibido Botellón.\nh
 ttps://www.eventosdesegovia.com/events/fiesta-solidaria-en-carbonero-el-may
 or/
URL:https://www.eventosdesegovia.com/events/fiesta-solidaria-en-carbonero-el-mayor/
END:VEVENT
END:VCALENDAR