BEGIN:VCALENDAR
VERSION:2.0
PRODID:-//eventon.com NONSGML v1.0//EN
CALSCALE:GREGORIAN
METHOD:PUBLISH
BEGIN:VEVENT
UID:69e4cd83b0d93
DTSTAMP:20260419T124139Z
DTSTART:20250201
DTEND:20250202
LOCATION:Cantimpalos Cantimpalos
SUMMARY:Carrera Pedestre VEGA DE CANTIMPALOS 2025
DESCRIPTION:Carrera Pedestre VEGA DE CANTIMPALOS 2025\,  CARRERA PEDESTRE V
 EGA DE CANTIMPALOS\,  Primera cita del Circuito de Pedestres de Segovia Ins
 críbete AQUÍ \,  Te esperamos el próximo 1 de febrero en Cantimpalos 
 (Segovia). Dos distancias a elegir: 10\, 6 Km y 5\, 3 Km Carreras Infantile
 s GRATUITAS para los más pequeños TROFEOS y PRODUCTOS de la[..]\nhttps://
 www.eventosdesegovia.com/events/carrera-pedestre-vega-de-cantimpalos-2025/
URL:https://www.eventosdesegovia.com/events/carrera-pedestre-vega-de-cantimpalos-2025/
END:VEVENT
END:VCALENDAR