BEGIN:VCALENDAR
VERSION:2.0
PRODID:-//eventon.com NONSGML v1.0//EN
CALSCALE:GREGORIAN
METHOD:PUBLISH
BEGIN:VEVENT
UID:69e74d77660af
DTSTAMP:20260421T101207Z
DTSTART:20250209
DTEND:20250210
LOCATION:
SUMMARY:XV Feria Outlet Segovia
DESCRIPTION:XV Feria Outlet Segovia\,  9 de febrero desde las 11.00 horas\,
   en Centro Cívico Nueva Segovia. Estará en horario ininterrumpido desde 
 las 11.00 horas hasta las 20.00 horas. Hasta 14 comercios segovianos de dif
 erentes barrios de la ciudad ofrecerán en un único espacio sus productos 
 a un precio rebajado. Los[..]\nhttps://www.eventosdesegovia.com/events/xv-f
 eria-outlet-segovia/
URL:https://www.eventosdesegovia.com/events/xv-feria-outlet-segovia/
END:VEVENT
END:VCALENDAR