BEGIN:VCALENDAR
VERSION:2.0
PRODID:-//eventon.com NONSGML v1.0//EN
CALSCALE:GREGORIAN
METHOD:PUBLISH
BEGIN:VEVENT
UID:69e78cf17f59e
DTSTAMP:20260421T144257Z
DTSTART:20250208
DTEND:20250209
LOCATION:El Espinar
SUMMARY:Santa Águeda 2025 en La Estación de El Espinar
DESCRIPTION:Santa Águeda 2025 en La Estación de El Espinar\,  el 8 de Feb
 rero de 2025\,  con Misa\,  Procesión\,  Comida\,  Bailes..\nhttps://www.e
 ventosdesegovia.com/events/santa-agueda-2025-en-la-estacion-de-el-espinar/
URL:https://www.eventosdesegovia.com/events/santa-agueda-2025-en-la-estacion-de-el-espinar/
END:VEVENT
END:VCALENDAR