BEGIN:VCALENDAR
VERSION:2.0
PRODID:-//eventon.com NONSGML v1.0//EN
CALSCALE:GREGORIAN
METHOD:PUBLISH
BEGIN:VEVENT
UID:69e78d517b85d
DTSTAMP:20260421T144433Z
DTSTART:20250208
DTEND:20250209
LOCATION:Navares de Enmedio Navares de Enmedio
SUMMARY:Santa Águeda 2025 en Navares de Enmedio
DESCRIPTION:Santa Águeda 2025 en Navares de Enmedio\,  el 8 de Febrero de 
 2025 con Pasacalles\,  Misa\,  Comida\,  Baile..\nhttps://www.eventosdesego
 via.com/events/santa-agueda-2025-en-navares-de-enmedio/
URL:https://www.eventosdesegovia.com/events/santa-agueda-2025-en-navares-de-enmedio/
END:VEVENT
END:VCALENDAR