BEGIN:VCALENDAR
VERSION:2.0
PRODID:-//eventon.com NONSGML v1.0//EN
CALSCALE:GREGORIAN
METHOD:PUBLISH
BEGIN:VEVENT
UID:69e774f77da17
DTSTAMP:20260421T130039Z
DTSTART:20250221T180000Z
DTEND:20250221T201000Z
LOCATION:Campo de San Pedro Campo de San Pedro
SUMMARY:Cine Comarcal - Spirit Indomable en Campo de San Pedro
DESCRIPTION:Cine Comarcal &#8211; Spirit Indomable en Campo de San Pedro\, 
  el 21 de Febrero a las 19:00 en el Salón de Actos de la Localidad.\nhttps
 ://www.eventosdesegovia.com/events/cine-comarcal-spirit-indomable-en-campo-
 de-san-pedro/
URL:https://www.eventosdesegovia.com/events/cine-comarcal-spirit-indomable-en-campo-de-san-pedro/
END:VEVENT
END:VCALENDAR