BEGIN:VCALENDAR
VERSION:2.0
PRODID:-//eventon.com NONSGML v1.0//EN
CALSCALE:GREGORIAN
METHOD:PUBLISH
BEGIN:VEVENT
UID:69eb31f4809dc
DTSTAMP:20260424T090348Z
DTSTART:20250222T170000Z
DTEND:20250222T200000Z
LOCATION:Cuéllar Cuéllar
SUMMARY:CAMPEONATOS DE INVIERNO 2025 Casa Joven de Cuéllar: Torneo de Brawl Stars
DESCRIPTION:CAMPEONATOS DE INVIERNO 2025 Casa Joven de Cuéllar: Torneo de 
 Brawl Stars\,  el Sábado 22 de febrero desde las 18:00h.🎟️Inscripcion
 es 1€ en Casa Joven\,  plazas limitadas.🏅Premio de 20€ en material d
 eportivo\,  juegos de mesa o libros.Más info en @casajovencuellar\nhttps:/
 /www.eventosdesegovia.com/events/campeonatos-de-invierno-2025-casa-joven-de
 -cuellar-torneo-de-brawl-stars/
URL:https://www.eventosdesegovia.com/events/campeonatos-de-invierno-2025-casa-joven-de-cuellar-torneo-de-brawl-stars/
END:VEVENT
END:VCALENDAR